BEGIN:VCALENDAR
VERSION:2.0
PRODID:-//hacksw/handcal//NONSGML v1.0//EN
BEGIN:VEVENT
SUMMARY:Cours Jeunes non debutants & Adultes 2eme annee
UID:a3942edb-96e8-4a77-b3ef-588d2bf68695
DTSTART:20250131T174500Z
DTEND:20250131T200000Z
LOCATION:Gymnase Rue des molieres 78690 Les Essarts Le Roi
CATEGORIES:Formation
STATUS:
URL;VALUE=URI:https://www.eca-tirarc.com/evenements/2025/01/31/cours-jeunes-non-debutants-adultes-2eme-annee-2165674
END:VEVENT
END:VCALENDAR
